BEGIN:VCALENDAR
VERSION:2.0
PRODID:-//Peugeot Club Qld - ECPv6.15.20//NONSGML v1.0//EN
CALSCALE:GREGORIAN
METHOD:PUBLISH
X-ORIGINAL-URL:https://staging.peugeotclubqld.org.au
X-WR-CALDESC:Events for Peugeot Club Qld
REFRESH-INTERVAL;VALUE=DURATION:PT1H
X-Robots-Tag:noindex
X-PUBLISHED-TTL:PT1H
BEGIN:VTIMEZONE
TZID:Australia/Brisbane
BEGIN:STANDARD
TZOFFSETFROM:+1000
TZOFFSETTO:+1000
TZNAME:AEST
DTSTART:20250101T000000
END:STANDARD
END:VTIMEZONE
BEGIN:VEVENT
DTSTART;TZID=Australia/Brisbane:20260426T073000
DTEND;TZID=Australia/Brisbane:20260426T170000
DTSTAMP:20260422T182558
CREATED:20260316T025148Z
LAST-MODIFIED:20260316T025148Z
UID:2177-1777188600-1777222800@staging.peugeotclubqld.org.au
SUMMARY:Euro Day
DESCRIPTION:Euro Day\n\n\n7.30am for 8.00am\n\n\nSunday 26th April\n\n\nLakeside Park Raceway\, Lakeside Rd\, Kurwongbah
URL:https://staging.peugeotclubqld.org.au/event/euro-day/
LOCATION:Lakeside Park\, Lakeside Rd\, Kurwongbah\, QLD\, 4503\, Australia
CATEGORIES:Event of Interest
ATTACH;FMTTYPE=image/png:https://staging.peugeotclubqld.org.au/wp-content/uploads/2025/02/Event-of-Interest-e1739192115509.png
ORGANIZER;CN="Neale Stuart":MAILTO:social@peugeotclubqld.org.au
END:VEVENT
END:VCALENDAR