BEGIN:VCALENDAR
VERSION:2.0
PRODID:-//Peugeot Club Qld - ECPv6.15.20//NONSGML v1.0//EN
CALSCALE:GREGORIAN
METHOD:PUBLISH
X-WR-CALNAME:Peugeot Club Qld
X-ORIGINAL-URL:https://staging.peugeotclubqld.org.au
X-WR-CALDESC:Events for Peugeot Club Qld
REFRESH-INTERVAL;VALUE=DURATION:PT1H
X-Robots-Tag:noindex
X-PUBLISHED-TTL:PT1H
BEGIN:VTIMEZONE
TZID:Australia/Brisbane
BEGIN:STANDARD
TZOFFSETFROM:+1000
TZOFFSETTO:+1000
TZNAME:AEST
DTSTART:20250101T000000
END:STANDARD
END:VTIMEZONE
BEGIN:VEVENT
DTSTART;TZID=Australia/Brisbane:20260312T193000
DTEND;TZID=Australia/Brisbane:20260312T210000
DTSTAMP:20260422T195440
CREATED:20260111T005551Z
LAST-MODIFIED:20260131T010214Z
UID:1994-1773343800-1773349200@staging.peugeotclubqld.org.au
SUMMARY:PCQ - Annual General Meeting
DESCRIPTION:2026\nBanyo library\nMeeting Room 1\n284 St Vincents Road\, Banyo \nNext meeting THURSDAY 12 March 2026 \n7:30pm for a cuppa before the meeting at 8:00pm \nIf your unable to attend you may still have your Vote by filling-in a Proxy Form\, which you can download from the Home page.
URL:https://staging.peugeotclubqld.org.au/event/pcq-general-meeting-2/
LOCATION:Banyo Library\, 284 St Vincents Road\, Banyo\, QLD\, Australia
CATEGORIES:PCQ General Meetings
ATTACH;FMTTYPE=image/png:https://staging.peugeotclubqld.org.au/wp-content/uploads/2026/01/PCQ-2026-AGM-Flyer1769818780.png
END:VEVENT
BEGIN:VEVENT
DTSTART;TZID=Australia/Brisbane:20260315T080000
DTEND;TZID=Australia/Brisbane:20260315T170000
DTSTAMP:20260422T195440
CREATED:20260112T001145Z
LAST-MODIFIED:20260112T001145Z
UID:2038-1773561600-1773594000@staging.peugeotclubqld.org.au
SUMMARY:RCCQ Happy Laps 2
DESCRIPTION:RCCQ Happy Laps 2\n\n\n \n\n\n \n\n\nLakeside Park\,\n\n\n\n  \n[popup_anything id=”1146″]
URL:https://staging.peugeotclubqld.org.au/event/rccq-happy-laps-2/
LOCATION:QLD
CATEGORIES:Event of Interest
ATTACH;FMTTYPE=image/jpeg:https://staging.peugeotclubqld.org.au/wp-content/uploads/2025/08/Renault-Car-Club-Qld-Logo.jpg
ORGANIZER;CN="Neale Stuart":MAILTO:social@peugeotclubqld.org.au
END:VEVENT
BEGIN:VEVENT
DTSTART;TZID=Australia/Brisbane:20260322T080000
DTEND;TZID=Australia/Brisbane:20260322T170000
DTSTAMP:20260422T195440
CREATED:20260117T013512Z
LAST-MODIFIED:20260131T014001Z
UID:2055-1774166400-1774198800@staging.peugeotclubqld.org.au
SUMMARY:Pugwheelin #2 – “Into the Cauldon”
DESCRIPTION:Pugwheelin #2 – “Into the Cauldon”  \nDate. Sun 22 March 2026\nTime. 8.00am for 8.30am\nMeeting Point. McDonalds Albion Car Park\, Sandgate Rd\, Albion \nSouthside Joiners – for members living on the Southside you are able to meetup as per\nbelow…\nTime. approx. 9.15am\nMeeting Point. McDonalds Mt Gravatt Car Park\, Mt Gravatt Rd \nGold Coast Joiners – for members living in the Gold Coast area you are able to meetup as per below… \nTime. approx. 10.30am\nMeeting Point. Metro Petroleum Pimpama\, Attenborough Rd\, Pimpama \nPugwheelin #2 Flyer (click here to download)
URL:https://staging.peugeotclubqld.org.au/event/pugwheelin-2-into-the-cauldon/
LOCATION:McDonald’s Albion\, 179 Sandgate Road\, Albion\, Qld\, 4010\, Australia
CATEGORIES:Pugwheelin
ATTACH;FMTTYPE=image/jpeg:https://staging.peugeotclubqld.org.au/wp-content/uploads/2024/07/404-image-women-france-e1735965986514.jpg
ORGANIZER;CN="Neale Stuart":MAILTO:social@peugeotclubqld.org.au
END:VEVENT
BEGIN:VEVENT
DTSTART;TZID=Australia/Brisbane:20260328T180000
DTEND;TZID=Australia/Brisbane:20260328T210000
DTSTAMP:20260422T195440
CREATED:20260131T020501Z
LAST-MODIFIED:20260131T020501Z
UID:2105-1774720800-1774731600@staging.peugeotclubqld.org.au
SUMMARY:PCQ Awards Night
DESCRIPTION:Your invited to the PCQ Awards Night\nSaturday 28 March 2026 \nAs a proud Peugeot Club Queensland member we would like\nto extend an invitation to an evening of all things Peugeot at\nour annual awards night. \nLefkas Taverna\n170 Hardgrave Rd\, West End Qld\nfrom 6.00pm \nWe look forward to welcoming you on the night.\nPlease RSVP by Thursday 12 March 2026\nReply to: Neale Stuart social@peugeotclubqld.org.au \n 
URL:https://staging.peugeotclubqld.org.au/event/pcq-awards-night/
LOCATION:Lefkas Taverna\, 170 Hardgrave Road\, West End\, QLD\, 4104\, Australia
CATEGORIES:Pugwheelin
ATTACH;FMTTYPE=application/pdf:https://staging.peugeotclubqld.org.au/wp-content/uploads/2026/01/2026-Awards-Night.pdf.pdf
ORGANIZER;CN="Neale Stuart":MAILTO:social@peugeotclubqld.org.au
END:VEVENT
END:VCALENDAR