BEGIN:VCALENDAR
VERSION:2.0
PRODID:-//Peugeot Club Qld - ECPv6.15.20//NONSGML v1.0//EN
CALSCALE:GREGORIAN
METHOD:PUBLISH
X-WR-CALNAME:Peugeot Club Qld
X-ORIGINAL-URL:https://staging.peugeotclubqld.org.au
X-WR-CALDESC:Events for Peugeot Club Qld
REFRESH-INTERVAL;VALUE=DURATION:PT1H
X-Robots-Tag:noindex
X-PUBLISHED-TTL:PT1H
BEGIN:VTIMEZONE
TZID:Australia/Brisbane
BEGIN:STANDARD
TZOFFSETFROM:+1000
TZOFFSETTO:+1000
TZNAME:AEST
DTSTART:20250101T000000
END:STANDARD
END:VTIMEZONE
BEGIN:VEVENT
DTSTART;TZID=Australia/Brisbane:20260419T080000
DTEND;TZID=Australia/Brisbane:20260419T170000
DTSTAMP:20260422T211319
CREATED:20260112T001813Z
LAST-MODIFIED:20260112T001813Z
UID:2040-1776585600-1776618000@staging.peugeotclubqld.org.au
SUMMARY:RCCQ Happy Laps 3
DESCRIPTION:RCCQ Happy Laps 3\n\n\n \n\n\n \n\n\nQueensland Raceway\, Champions Way\, Willowbank\n\n\n\n  \n[popup_anything id=”1146″]
URL:https://staging.peugeotclubqld.org.au/event/rccq-happy-laps-3/
LOCATION:QLD
CATEGORIES:Event of Interest
ATTACH;FMTTYPE=image/jpeg:https://staging.peugeotclubqld.org.au/wp-content/uploads/2025/08/Renault-Car-Club-Qld-Logo.jpg
ORGANIZER;CN="Neale Stuart":MAILTO:social@peugeotclubqld.org.au
END:VEVENT
BEGIN:VEVENT
DTSTART;TZID=Australia/Brisbane:20260417T080000
DTEND;TZID=Australia/Brisbane:20260419T170000
DTSTAMP:20260422T211319
CREATED:20260117T013848Z
LAST-MODIFIED:20260117T013848Z
UID:2061-1776412800-1776618000@staging.peugeotclubqld.org.au
SUMMARY:Pugwheelin #3 – “Land of the Celts”
DESCRIPTION:Pugwheelin #3 – “Land of the Celts”  \nDate. Fri 17 April to Sun 19 April 2026\nTime. 8.00am for 8.30am\nMeeting Point. Rocks Riverside Park\, Counihan St\, 17 Mile Rocks \n*** Note! *** 2 nights accommodation in Inverell or Glenn Innes. RSVP’s to social@peugeotclubqld.org.au by Thursday 12 March 2026 please
URL:https://staging.peugeotclubqld.org.au/event/pugwheelin-3-land-of-the-celts/
LOCATION:Rocks Riverside Park\, Counihan St\, Seventeen Mile Rocks\, Qld\, 4073\, Australia
CATEGORIES:Pugwheelin
ATTACH;FMTTYPE=image/jpeg:https://staging.peugeotclubqld.org.au/wp-content/uploads/2024/07/404-image-women-france-e1735965986514.jpg
ORGANIZER;CN="Neale Stuart":MAILTO:social@peugeotclubqld.org.au
END:VEVENT
BEGIN:VEVENT
DTSTART;TZID=Australia/Brisbane:20260412T080000
DTEND;TZID=Australia/Brisbane:20260412T160000
DTSTAMP:20260422T211319
CREATED:20260307T002503Z
LAST-MODIFIED:20260307T005701Z
UID:2147-1775980800-1776009600@staging.peugeotclubqld.org.au
SUMMARY:HSCCQ Motorkhana Come and Try Day
DESCRIPTION:HSCCQ Motorkhana Come and Try Day\n\n\n8.00am to 4.00pm\n\n\nentries@hsccq.com\n\n\nQld Raceway\, Champions Way\, Willowbank – Drift Area\n\n\n\n[popup_anything id=”1146″]
URL:https://staging.peugeotclubqld.org.au/event/hsccq-motorkhana-come-and-try-day/
LOCATION:Queensland Raceway\, 133 Champions Way\, Willowbank\, QLD\, 4306\, Australia
CATEGORIES:Event of Interest
ATTACH;FMTTYPE=image/png:https://staging.peugeotclubqld.org.au/wp-content/uploads/2026/03/cropped-HSCCQ-3.png
ORGANIZER;CN="Neale Stuart":MAILTO:social@peugeotclubqld.org.au
END:VEVENT
BEGIN:VEVENT
DTSTART;TZID=Australia/Brisbane:20260409T193000
DTEND;TZID=Australia/Brisbane:20260409T210000
DTSTAMP:20260422T211319
CREATED:20260111T005840Z
LAST-MODIFIED:20260111T010846Z
UID:1996-1775763000-1775768400@staging.peugeotclubqld.org.au
SUMMARY:PCQ General Meeting
DESCRIPTION:2026\nBanyo library\nMeeting Room 1\n284 St Vincents Road\, Banyo \nNext meeting THURSDAY 9 April 2026 \n7:30pm for a cuppa before the meeting at 8:00pm
URL:https://staging.peugeotclubqld.org.au/event/pcq-general-meeting-3/
LOCATION:Banyo Library\, 284 St Vincents Road\, Banyo\, QLD\, Australia
CATEGORIES:PCQ General Meetings
ATTACH;FMTTYPE=image/jpeg:https://staging.peugeotclubqld.org.au/wp-content/uploads/2024/07/Club-Meeting-e1735965927537.jpg
END:VEVENT
BEGIN:VEVENT
DTSTART;TZID=Australia/Brisbane:20260328T180000
DTEND;TZID=Australia/Brisbane:20260328T210000
DTSTAMP:20260422T211319
CREATED:20260131T020501Z
LAST-MODIFIED:20260131T020501Z
UID:2105-1774720800-1774731600@staging.peugeotclubqld.org.au
SUMMARY:PCQ Awards Night
DESCRIPTION:Your invited to the PCQ Awards Night\nSaturday 28 March 2026 \nAs a proud Peugeot Club Queensland member we would like\nto extend an invitation to an evening of all things Peugeot at\nour annual awards night. \nLefkas Taverna\n170 Hardgrave Rd\, West End Qld\nfrom 6.00pm \nWe look forward to welcoming you on the night.\nPlease RSVP by Thursday 12 March 2026\nReply to: Neale Stuart social@peugeotclubqld.org.au \n 
URL:https://staging.peugeotclubqld.org.au/event/pcq-awards-night/
LOCATION:Lefkas Taverna\, 170 Hardgrave Road\, West End\, QLD\, 4104\, Australia
CATEGORIES:Pugwheelin
ATTACH;FMTTYPE=application/pdf:https://staging.peugeotclubqld.org.au/wp-content/uploads/2026/01/2026-Awards-Night.pdf.pdf
ORGANIZER;CN="Neale Stuart":MAILTO:social@peugeotclubqld.org.au
END:VEVENT
BEGIN:VEVENT
DTSTART;TZID=Australia/Brisbane:20260322T080000
DTEND;TZID=Australia/Brisbane:20260322T170000
DTSTAMP:20260422T211319
CREATED:20260117T013512Z
LAST-MODIFIED:20260131T014001Z
UID:2055-1774166400-1774198800@staging.peugeotclubqld.org.au
SUMMARY:Pugwheelin #2 – “Into the Cauldon”
DESCRIPTION:Pugwheelin #2 – “Into the Cauldon”  \nDate. Sun 22 March 2026\nTime. 8.00am for 8.30am\nMeeting Point. McDonalds Albion Car Park\, Sandgate Rd\, Albion \nSouthside Joiners – for members living on the Southside you are able to meetup as per\nbelow…\nTime. approx. 9.15am\nMeeting Point. McDonalds Mt Gravatt Car Park\, Mt Gravatt Rd \nGold Coast Joiners – for members living in the Gold Coast area you are able to meetup as per below… \nTime. approx. 10.30am\nMeeting Point. Metro Petroleum Pimpama\, Attenborough Rd\, Pimpama \nPugwheelin #2 Flyer (click here to download)
URL:https://staging.peugeotclubqld.org.au/event/pugwheelin-2-into-the-cauldon/
LOCATION:McDonald’s Albion\, 179 Sandgate Road\, Albion\, Qld\, 4010\, Australia
CATEGORIES:Pugwheelin
ATTACH;FMTTYPE=image/jpeg:https://staging.peugeotclubqld.org.au/wp-content/uploads/2024/07/404-image-women-france-e1735965986514.jpg
ORGANIZER;CN="Neale Stuart":MAILTO:social@peugeotclubqld.org.au
END:VEVENT
BEGIN:VEVENT
DTSTART;TZID=Australia/Brisbane:20260315T080000
DTEND;TZID=Australia/Brisbane:20260315T170000
DTSTAMP:20260422T211319
CREATED:20260112T001145Z
LAST-MODIFIED:20260112T001145Z
UID:2038-1773561600-1773594000@staging.peugeotclubqld.org.au
SUMMARY:RCCQ Happy Laps 2
DESCRIPTION:RCCQ Happy Laps 2\n\n\n \n\n\n \n\n\nLakeside Park\,\n\n\n\n  \n[popup_anything id=”1146″]
URL:https://staging.peugeotclubqld.org.au/event/rccq-happy-laps-2/
LOCATION:QLD
CATEGORIES:Event of Interest
ATTACH;FMTTYPE=image/jpeg:https://staging.peugeotclubqld.org.au/wp-content/uploads/2025/08/Renault-Car-Club-Qld-Logo.jpg
ORGANIZER;CN="Neale Stuart":MAILTO:social@peugeotclubqld.org.au
END:VEVENT
BEGIN:VEVENT
DTSTART;TZID=Australia/Brisbane:20260312T193000
DTEND;TZID=Australia/Brisbane:20260312T210000
DTSTAMP:20260422T211319
CREATED:20260111T005551Z
LAST-MODIFIED:20260131T010214Z
UID:1994-1773343800-1773349200@staging.peugeotclubqld.org.au
SUMMARY:PCQ - Annual General Meeting
DESCRIPTION:2026\nBanyo library\nMeeting Room 1\n284 St Vincents Road\, Banyo \nNext meeting THURSDAY 12 March 2026 \n7:30pm for a cuppa before the meeting at 8:00pm \nIf your unable to attend you may still have your Vote by filling-in a Proxy Form\, which you can download from the Home page.
URL:https://staging.peugeotclubqld.org.au/event/pcq-general-meeting-2/
LOCATION:Banyo Library\, 284 St Vincents Road\, Banyo\, QLD\, Australia
CATEGORIES:PCQ General Meetings
ATTACH;FMTTYPE=image/png:https://staging.peugeotclubqld.org.au/wp-content/uploads/2026/01/PCQ-2026-AGM-Flyer1769818780.png
END:VEVENT
BEGIN:VEVENT
DTSTART;TZID=Australia/Brisbane:20260222T090000
DTEND;TZID=Australia/Brisbane:20260222T140000
DTSTAMP:20260422T211319
CREATED:20260112T000053Z
LAST-MODIFIED:20260112T000053Z
UID:2034-1771750800-1771768800@staging.peugeotclubqld.org.au
SUMMARY:North Coast Show And Shine\, Ballina
DESCRIPTION:North Coast Show And Shine\, Ballina\n\n\n9.00am till 2.00pm\n\n\n \n\n\nBallina Jockey Club\, Racecourse Rd\, Ballina\n\n\n\n  \n[popup_anything id=”1146″]
URL:https://staging.peugeotclubqld.org.au/event/north-coast-show-and-shine-ballina/
LOCATION:QLD
CATEGORIES:Event of Interest
ATTACH;FMTTYPE=image/png:https://staging.peugeotclubqld.org.au/wp-content/uploads/2025/02/Event-of-Interest-e1739192115509.png
ORGANIZER;CN="Neale Stuart":MAILTO:social@peugeotclubqld.org.au
END:VEVENT
BEGIN:VEVENT
DTSTART;TZID=Australia/Brisbane:20260222T080000
DTEND;TZID=Australia/Brisbane:20260222T170000
DTSTAMP:20260422T211319
CREATED:20260112T000550Z
LAST-MODIFIED:20260202T054328Z
UID:2036-1771747200-1771779600@staging.peugeotclubqld.org.au
SUMMARY:RCCQ Happy Laps 1
DESCRIPTION:RCCQ Happy Laps 1\n\n\n \n\n\n \n\n\nQueensland Raceway\, Champions Way\, Willowbank\n\n\n\nHi to the Alfa Romeo\, BMW\, Peugeot\, and Citroen clubs of Qld.  We are pleased to offer the member rate to your membership for participation in our Happy Laps session.  Below is the first email sent out just yesterday\, for our first HL session for 2026.  Note\, on the Self-Scrutineering form\, members of your clubs will need to complete the fields for Club and Membership number so that we know they are members of one of the clubs to which we are offering this arrangement.\n\n\n\nRenault Car Club of Queensland\n \nHi all\,\n \nWe are off to a new year of Happy Laps and our first of seven is on Sunday 22 February at Queensland Raceway.  A number of things have changed for 2026\, as you would have seen in the email I sent out in December\, so please read this email carefully as well as the attached flyer.  The costs to us have risen again and we have now had to increase our prices for Happy Laps by $7 to drivers.  Also\, more information is now required from you\, so the Self-Scrutineering form has been updated to Revision 26 (ie 2026).  Only this form will be accepted so don’t send an old one.  I have also attached the AASA Indemnity forms such that you can read the agreement that you will be required to sign on the day.  Don’t fill out the form\, it is provided only so that you can read it. I will enter the details from the information you provide on the SS form R26.\n \nWe have kept the price for passengers at $40 and now all children under 13 are free (minimum age is 7).  On the SS form\, only the names of children and their ages are required\, the contact details should be those of the responsible adult.\n \n\nBookings are to be emailed to Peter Rundle at pjrundle948@gmail.com & also CC me at rccq.sec@gmail.com\nCC’ing me is important\, I record most of the data and act as a cross-check for Peter\, and I am the backup in the event an email is overlooked. Use the attached Self-Scrutineering Form R26 (attached). \n\n \nPlease try to make your booking before the preceding Wednesday\, 18 February; earlier is much prefered. Payment should be made on receipt of this booking confirmation—details in the flyer and please note the bank account name\, which is now also important.  If you book and pay\, then subsequently need to cancel\, we will refund your payments as long as you don’t leave it until the morning of the event to tell us.\n \nNB. Qld Raceway sometimes wants us on the track earlier than normal\, so please be at QR by 7am sharp.  We need more time to process the list now with the added imposition of checking all driver’s licences and getting you to sign the AASA Indemnity Form.  Too many are arriving during the briefing\, and some after that\, as the cars are going out onto the track.  You have been warned; if you miss the sign-in and briefing\, you will miss going out on the track.\n \nAfter Happy Laps\, you are free to stay and watch whatever is on at QR that day\, or you are welcome to join us for a late breakfast at the Queens Park Cafe in Ipswich.\n \nIf you have any questions regarding any of the above\, please contact me (Secretary).\n \n\n\n\n\n\n\n\n\n\n\n\n\n\n\n\n\n\n\n\n\n\n\n\n\nRegards\nGraham Nordling\nSecretary\nRenault Car Club of Queensland\nPO Box 1215\, Mt Ommaney Qld 4074\nrccq.sec@gmail.com\n0427 737 181 mob \n \n\n\n\n\n\n\n\n\n\n\n\n\n\n\n\n\n\n\n\n\n\n\n\n\n\n[popup_anything id=”1146″]\n \n(last updated 02/02/26)
URL:https://staging.peugeotclubqld.org.au/event/rccq-happy-laps-1/
LOCATION:QLD
CATEGORIES:Event of Interest
ATTACH;FMTTYPE=image/jpeg:https://staging.peugeotclubqld.org.au/wp-content/uploads/2025/08/Renault-Car-Club-Qld-Logo.jpg
ORGANIZER;CN="Neale Stuart":MAILTO:social@peugeotclubqld.org.au
END:VEVENT
BEGIN:VEVENT
DTSTART;TZID=Australia/Brisbane:20260221T080000
DTEND;TZID=Australia/Brisbane:20260221T170000
DTSTAMP:20260422T211319
CREATED:20260117T012650Z
LAST-MODIFIED:20260131T012911Z
UID:2053-1771660800-1771693200@staging.peugeotclubqld.org.au
SUMMARY:Pugwheelin #1 – “Joy Flight”
DESCRIPTION:Pugwheelin #1 – “Joy Flight”  \nDate. Sat 21 Feb 2026\nTime. 8.00am for 8.30am\nMeeting Point. Banyo Library Car Park\, 284 St Vincents Rd\, Banyo \nNorthern and Shine Coast Joiners…\nFor those further north and on the Sunshine Coast that wish to join us we will meet you at the Glass House Mountains Lookout\,\nGlass House Woodford Rd at approx 9.45am (morning tea stop). \nPugwheelin #1 Flyer (click here to download)
URL:https://staging.peugeotclubqld.org.au/event/pugwheelin-1-joy-flight/
LOCATION:Banyo Library\, 284 St Vincents Road\, Banyo\, QLD\, Australia
CATEGORIES:Pugwheelin
ATTACH;FMTTYPE=image/jpeg:https://staging.peugeotclubqld.org.au/wp-content/uploads/2024/07/404-image-women-france-e1735965986514.jpg
ORGANIZER;CN="Neale Stuart":MAILTO:social@peugeotclubqld.org.au
END:VEVENT
BEGIN:VEVENT
DTSTART;TZID=Australia/Brisbane:20260212T193000
DTEND;TZID=Australia/Brisbane:20260212T210000
DTSTAMP:20260422T211319
CREATED:20260111T005302Z
LAST-MODIFIED:20260111T010649Z
UID:1992-1770924600-1770930000@staging.peugeotclubqld.org.au
SUMMARY:PCQ General Meeting
DESCRIPTION:2026\nBanyo library\nMeeting Room 1\n284 St Vincents Road\, Banyo \nNext meeting THURSDAY 12 February 2026 \n7:30pm for a cuppa before the meeting at 8:00pm
URL:https://staging.peugeotclubqld.org.au/event/pcq-general-meeting/
LOCATION:Banyo Library\, 284 St Vincents Road\, Banyo\, QLD\, Australia
CATEGORIES:PCQ General Meetings
ATTACH;FMTTYPE=image/jpeg:https://staging.peugeotclubqld.org.au/wp-content/uploads/2024/07/Club-Meeting-e1735965927537.jpg
END:VEVENT
BEGIN:VEVENT
DTSTART;TZID=Australia/Brisbane:20260208T090000
DTEND;TZID=Australia/Brisbane:20260208T140000
DTSTAMP:20260422T211319
CREATED:20260111T235515Z
LAST-MODIFIED:20260202T053630Z
UID:2032-1770541200-1770559200@staging.peugeotclubqld.org.au
SUMMARY:RCCQ Shed Day
DESCRIPTION:RCCQ Shed Day\n\n\n9.00am till 2.00pm\n\n\n \n\n\nShed 1 – Strathpine. Shed 2 – Carseldine. Shed 3 – Brisbane Motor Museum\n\n\n\n \nThe following Sunday\, 8 February we have a Shed Day and Brisbane Motor Museum Visit organised by Allan Howlett.  RSVP is this Wednesday\, 4 February.  Details are as follows:\n \n\n9 am         Shed visit to Nat Howlett’s place at 22 Graham Road\, Strathpine\n10 am       Shed visit and morning tea at Allan Howlett’s place at 33 Nilkerie Street\, Carseldine\n12:01 pm  Brisbane Motor Museum 959 Nudgee Road\, Banyo\n\n \nAs stated above\, RSVP is this Wednesday.  Please RSVP to me via a reply to this email or SMS\, and I will pass on the numbers to Allan.\n \n\n\n\n\n\n\n\n\n\n\n\n\n\n\n\n\n\n\n\n\n\n\n\n\nRegards\nGraham Nordling\nSecretary \n\nRenault Car Club of Queensland\nPO Box 1215\, Mt Ommaney Qld 4074\nrccq.sec@gmail.com\n0427 737 181 mob\n\n\n\n\n \n\n\n \n\n\n\n\n\n\n\n\n\n\n\n\n\n\n\n\n\n\n\n\n\n[popup_anything id=”1146″]\n \n(last updated 02/02/26)
URL:https://staging.peugeotclubqld.org.au/event/rccq-shed-day/
LOCATION:QLD
CATEGORIES:Event of Interest
ATTACH;FMTTYPE=image/jpeg:https://staging.peugeotclubqld.org.au/wp-content/uploads/2025/08/Renault-Car-Club-Qld-Logo.jpg
ORGANIZER;CN="Neale Stuart":MAILTO:social@peugeotclubqld.org.au
END:VEVENT
BEGIN:VEVENT
DTSTART;TZID=Australia/Brisbane:20260126T060000
DTEND;TZID=Australia/Brisbane:20260126T120000
DTSTAMP:20260422T211319
CREATED:20260111T020652Z
LAST-MODIFIED:20260111T021603Z
UID:2024-1769407200-1769428800@staging.peugeotclubqld.org.au
SUMMARY:BVRC Car Display
DESCRIPTION:BVRC Display\n\n\n6.00am – 12 noon\n\n\nSteve – 0411 516 122\n\n\nOrmiston State School\, Wellington St\, Ormiston\n\n\n\n  \nIf you want to display your Peugeot on the day contact Steve on the above number for further details. \n[popup_anything id=”1146″]
URL:https://staging.peugeotclubqld.org.au/event/bvrc-display-cars/
LOCATION:Ormiston State School\, 82-110 Gordon Street\, Ormiston\, QLD\, 4160\, Australia
CATEGORIES:Event of Interest
ATTACH;FMTTYPE=image/png:https://staging.peugeotclubqld.org.au/wp-content/uploads/2025/01/Logo-Aus-Day-LG-50-Transparent-BVRC-Inc-e1736229638815.png
END:VEVENT
END:VCALENDAR