BEGIN:VCALENDAR
VERSION:2.0
PRODID:-//Peugeot Club Qld - ECPv6.15.20//NONSGML v1.0//EN
CALSCALE:GREGORIAN
METHOD:PUBLISH
X-ORIGINAL-URL:https://staging.peugeotclubqld.org.au
X-WR-CALDESC:Events for Peugeot Club Qld
REFRESH-INTERVAL;VALUE=DURATION:PT1H
X-Robots-Tag:noindex
X-PUBLISHED-TTL:PT1H
BEGIN:VTIMEZONE
TZID:Australia/Brisbane
BEGIN:STANDARD
TZOFFSETFROM:+1000
TZOFFSETTO:+1000
TZNAME:AEST
DTSTART:20250101T000000
END:STANDARD
END:VTIMEZONE
BEGIN:VEVENT
DTSTART;TZID=Australia/Brisbane:20260620T080000
DTEND;TZID=Australia/Brisbane:20260620T170000
DTSTAMP:20260423T001704
CREATED:20260307T012630Z
LAST-MODIFIED:20260316T031114Z
UID:2161-1781942400-1781974800@staging.peugeotclubqld.org.au
SUMMARY:Pugwheelin #5 - "The Graveyard"
DESCRIPTION:Pugwheelin #5 “The Graveyard”\n\n\n8.00am for 8.30am\n\n\nSaturday 20th June 2026\n\n\nDFO Jindalee (Top Carpark)\, Amazons Place\, Jindalee
URL:https://staging.peugeotclubqld.org.au/event/pugwheelin-5/
LOCATION:DFO Jindalee\, 16 Amazons Place\, Jindalee\, Qld\, 4074\, Australia
CATEGORIES:Pugwheelin
ATTACH;FMTTYPE=image/jpeg:https://staging.peugeotclubqld.org.au/wp-content/uploads/2024/07/404-image-women-france-e1735965986514.jpg
ORGANIZER;CN="Neale Stuart":MAILTO:social@peugeotclubqld.org.au
END:VEVENT
END:VCALENDAR