BEGIN:VCALENDAR
VERSION:2.0
PRODID:-//Peugeot Club Qld - ECPv6.15.20//NONSGML v1.0//EN
CALSCALE:GREGORIAN
METHOD:PUBLISH
X-ORIGINAL-URL:https://staging.peugeotclubqld.org.au
X-WR-CALDESC:Events for Peugeot Club Qld
REFRESH-INTERVAL;VALUE=DURATION:PT1H
X-Robots-Tag:noindex
X-PUBLISHED-TTL:PT1H
BEGIN:VTIMEZONE
TZID:Australia/Brisbane
BEGIN:STANDARD
TZOFFSETFROM:+1000
TZOFFSETTO:+1000
TZNAME:AEST
DTSTART:20250101T000000
END:STANDARD
END:VTIMEZONE
BEGIN:VEVENT
DTSTART;TZID=Australia/Brisbane:20260514T193000
DTEND;TZID=Australia/Brisbane:20260514T210000
DTSTAMP:20260422T225733
CREATED:20260111T010149Z
LAST-MODIFIED:20260111T010940Z
UID:1998-1778787000-1778792400@staging.peugeotclubqld.org.au
SUMMARY:PCQ General Meeting
DESCRIPTION:2026\nBanyo library\nMeeting Room 1\n284 St Vincents Road\, Banyo \nNext meeting THURSDAY 14 May 2026 \n7:30pm for a cuppa before the meeting at 8:00pm
URL:https://staging.peugeotclubqld.org.au/event/pcq-general-meeting-4/
LOCATION:Banyo Library\, 284 St Vincents Road\, Banyo\, QLD\, Australia
CATEGORIES:PCQ General Meetings
ATTACH;FMTTYPE=image/jpeg:https://staging.peugeotclubqld.org.au/wp-content/uploads/2024/07/Club-Meeting-e1735965927537.jpg
END:VEVENT
BEGIN:VEVENT
DTSTART;TZID=Australia/Brisbane:20260611T193000
DTEND;TZID=Australia/Brisbane:20260611T210000
DTSTAMP:20260422T225733
CREATED:20260111T010535Z
LAST-MODIFIED:20260111T010535Z
UID:2000-1781206200-1781211600@staging.peugeotclubqld.org.au
SUMMARY:PCQ General Meeting
DESCRIPTION:2026\nBanyo library\nMeeting Room 1\n284 St Vincents Road\, Banyo \nNext meeting THURSDAY 11 June 2026 \n7:30pm for a cuppa before the meeting at 8:00pm
URL:https://staging.peugeotclubqld.org.au/event/pcq-general-meeting-5/
LOCATION:Banyo Library\, 284 St Vincents Road\, Banyo\, QLD\, Australia
CATEGORIES:PCQ General Meetings
ATTACH;FMTTYPE=image/jpeg:https://staging.peugeotclubqld.org.au/wp-content/uploads/2024/07/Club-Meeting-e1735965927537.jpg
END:VEVENT
BEGIN:VEVENT
DTSTART;TZID=Australia/Brisbane:20260709T193000
DTEND;TZID=Australia/Brisbane:20260709T210000
DTSTAMP:20260422T225733
CREATED:20260111T011327Z
LAST-MODIFIED:20260111T011327Z
UID:2011-1783625400-1783630800@staging.peugeotclubqld.org.au
SUMMARY:PCQ General Meeting
DESCRIPTION:2026\nBanyo library\nMeeting Room 1\n284 St Vincents Road\, Banyo \nNext meeting THURSDAY 9 July 2026 \n7:30pm for a cuppa before the meeting at 8:00pm
URL:https://staging.peugeotclubqld.org.au/event/pcq-general-meeting-6/
LOCATION:Banyo Library\, 284 St Vincents Road\, Banyo\, QLD\, Australia
CATEGORIES:PCQ General Meetings
ATTACH;FMTTYPE=image/jpeg:https://staging.peugeotclubqld.org.au/wp-content/uploads/2024/07/Club-Meeting-e1735965927537.jpg
END:VEVENT
BEGIN:VEVENT
DTSTART;TZID=Australia/Brisbane:20260813T193000
DTEND;TZID=Australia/Brisbane:20260813T210000
DTSTAMP:20260422T225733
CREATED:20260111T011616Z
LAST-MODIFIED:20260111T011616Z
UID:2013-1786649400-1786654800@staging.peugeotclubqld.org.au
SUMMARY:PCQ General Meeting
DESCRIPTION:2026\nBanyo library\nMeeting Room 1\n284 St Vincents Road\, Banyo \nNext meeting THURSDAY 13 August 2026 \n7:30pm for a cuppa before the meeting at 8:00pm
URL:https://staging.peugeotclubqld.org.au/event/pcq-general-meeting-7/
LOCATION:Banyo Library\, 284 St Vincents Road\, Banyo\, QLD\, Australia
CATEGORIES:PCQ General Meetings
ATTACH;FMTTYPE=image/jpeg:https://staging.peugeotclubqld.org.au/wp-content/uploads/2024/07/Club-Meeting-e1735965927537.jpg
END:VEVENT
BEGIN:VEVENT
DTSTART;TZID=Australia/Brisbane:20260910T193000
DTEND;TZID=Australia/Brisbane:20260910T210000
DTSTAMP:20260422T225733
CREATED:20260111T011914Z
LAST-MODIFIED:20260111T011914Z
UID:2015-1789068600-1789074000@staging.peugeotclubqld.org.au
SUMMARY:PCQ General Meeting
DESCRIPTION:2026\nBanyo library\nMeeting Room 1\n284 St Vincents Road\, Banyo \nNext meeting THURSDAY 10 September 2026 \n7:30pm for a cuppa before the meeting at 8:00pm
URL:https://staging.peugeotclubqld.org.au/event/pcq-general-meeting-8/
LOCATION:Banyo Library\, 284 St Vincents Road\, Banyo\, QLD\, Australia
CATEGORIES:PCQ General Meetings
ATTACH;FMTTYPE=image/jpeg:https://staging.peugeotclubqld.org.au/wp-content/uploads/2024/07/Club-Meeting-e1735965927537.jpg
END:VEVENT
BEGIN:VEVENT
DTSTART;TZID=Australia/Brisbane:20261008T193000
DTEND;TZID=Australia/Brisbane:20261008T210000
DTSTAMP:20260422T225733
CREATED:20260111T012151Z
LAST-MODIFIED:20260111T012151Z
UID:2017-1791487800-1791493200@staging.peugeotclubqld.org.au
SUMMARY:PCQ General Meeting
DESCRIPTION:2026\nBanyo library\nMeeting Room 1\n284 St Vincents Road\, Banyo \nNext meeting THURSDAY 8 October 2026 \n7:30pm for a cuppa before the meeting at 8:00pm
URL:https://staging.peugeotclubqld.org.au/event/pcq-general-meeting-9/
LOCATION:Banyo Library\, 284 St Vincents Road\, Banyo\, QLD\, Australia
CATEGORIES:PCQ General Meetings
ATTACH;FMTTYPE=image/jpeg:https://staging.peugeotclubqld.org.au/wp-content/uploads/2024/07/Club-Meeting-e1735965927537.jpg
END:VEVENT
BEGIN:VEVENT
DTSTART;TZID=Australia/Brisbane:20261112T193000
DTEND;TZID=Australia/Brisbane:20261112T210000
DTSTAMP:20260422T225733
CREATED:20260111T012445Z
LAST-MODIFIED:20260111T012445Z
UID:2019-1794511800-1794517200@staging.peugeotclubqld.org.au
SUMMARY:PCQ General Meeting
DESCRIPTION:2026\nBanyo library\nMeeting Room 1\n284 St Vincents Road\, Banyo \nNext meeting THURSDAY 12 November 2026 \n7:30pm for a cuppa before the meeting at 8:00pm
URL:https://staging.peugeotclubqld.org.au/event/pcq-general-meeting-10/
LOCATION:Banyo Library\, 284 St Vincents Road\, Banyo\, QLD\, Australia
CATEGORIES:PCQ General Meetings
ATTACH;FMTTYPE=image/jpeg:https://staging.peugeotclubqld.org.au/wp-content/uploads/2024/07/Club-Meeting-e1735965927537.jpg
END:VEVENT
BEGIN:VEVENT
DTSTART;TZID=Australia/Brisbane:20261210T193000
DTEND;TZID=Australia/Brisbane:20261210T210000
DTSTAMP:20260422T225733
CREATED:20260111T012700Z
LAST-MODIFIED:20260111T012700Z
UID:2021-1796931000-1796936400@staging.peugeotclubqld.org.au
SUMMARY:PCQ General Meeting
DESCRIPTION:2026\nBanyo library\nMeeting Room 1\n284 St Vincents Road\, Banyo \nNext meeting THURSDAY 10 December 2026 \n7:30pm for a cuppa before the meeting at 8:00pm
URL:https://staging.peugeotclubqld.org.au/event/pcq-general-meeting-11/
LOCATION:Banyo Library\, 284 St Vincents Road\, Banyo\, QLD\, Australia
CATEGORIES:PCQ General Meetings
ATTACH;FMTTYPE=image/jpeg:https://staging.peugeotclubqld.org.au/wp-content/uploads/2024/07/Club-Meeting-e1735965927537.jpg
END:VEVENT
END:VCALENDAR