BEGIN:VCALENDAR
VERSION:2.0
PRODID:-//Peugeot Club Qld - ECPv6.15.20//NONSGML v1.0//EN
CALSCALE:GREGORIAN
METHOD:PUBLISH
X-ORIGINAL-URL:https://staging.peugeotclubqld.org.au
X-WR-CALDESC:Events for Peugeot Club Qld
REFRESH-INTERVAL;VALUE=DURATION:PT1H
X-Robots-Tag:noindex
X-PUBLISHED-TTL:PT1H
BEGIN:VTIMEZONE
TZID:Australia/Brisbane
BEGIN:STANDARD
TZOFFSETFROM:+1000
TZOFFSETTO:+1000
TZNAME:AEST
DTSTART:20250101T000000
END:STANDARD
END:VTIMEZONE
BEGIN:VEVENT
DTSTART;TZID=Australia/Brisbane:20261010T080000
DTEND;TZID=Australia/Brisbane:20261010T170000
DTSTAMP:20260424T181047
CREATED:20260117T014800Z
LAST-MODIFIED:20260117T014909Z
UID:2067-1791619200-1791651600@staging.peugeotclubqld.org.au
SUMMARY:Pugwheelin #9 – PCQ “Sports Day”
DESCRIPTION:Pugwheelin #9 – PCQ “Sports Day” \nDate. Sat 10 October 2026 \nDetails TBA
URL:https://staging.peugeotclubqld.org.au/event/pugwheelin-9-pcq-sports-day/
LOCATION:QLD
CATEGORIES:Pugwheelin
ATTACH;FMTTYPE=image/jpeg:https://staging.peugeotclubqld.org.au/wp-content/uploads/2024/07/404-image-women-france-e1735965986514.jpg
ORGANIZER;CN="Neale Stuart":MAILTO:social@peugeotclubqld.org.au
END:VEVENT
END:VCALENDAR