BEGIN:VCALENDAR
VERSION:2.0
PRODID:-//Peugeot Club Qld - ECPv6.15.20//NONSGML v1.0//EN
CALSCALE:GREGORIAN
METHOD:PUBLISH
X-WR-CALNAME:Peugeot Club Qld
X-ORIGINAL-URL:https://staging.peugeotclubqld.org.au
X-WR-CALDESC:Events for Peugeot Club Qld
REFRESH-INTERVAL;VALUE=DURATION:PT1H
X-Robots-Tag:noindex
X-PUBLISHED-TTL:PT1H
BEGIN:VTIMEZONE
TZID:Australia/Brisbane
BEGIN:STANDARD
TZOFFSETFROM:+1000
TZOFFSETTO:+1000
TZNAME:AEST
DTSTART:20250101T000000
END:STANDARD
END:VTIMEZONE
BEGIN:VEVENT
DTSTART;TZID=Australia/Brisbane:20260614T080000
DTEND;TZID=Australia/Brisbane:20260614T170000
DTSTAMP:20260422T223928
CREATED:20260112T004054Z
LAST-MODIFIED:20260112T004054Z
UID:2044-1781424000-1781456400@staging.peugeotclubqld.org.au
SUMMARY:RACQ Motorfest
DESCRIPTION:RACQ Motorfest\n\n\nTime TBA\n\n\n \n\n\nRNA Showgrounds\n\n\n\n  \n[popup_anything id=”1146″]
URL:https://staging.peugeotclubqld.org.au/event/racq-motorfest/
LOCATION:QLD
CATEGORIES:Event of Interest
ATTACH;FMTTYPE=image/png:https://staging.peugeotclubqld.org.au/wp-content/uploads/2026/01/RACQ-Motorfest-Banner920x420-e1768178350301.png
ORGANIZER;CN="Neale Stuart":MAILTO:social@peugeotclubqld.org.au
END:VEVENT
END:VCALENDAR