BEGIN:VCALENDAR
VERSION:2.0
PRODID:-//Peugeot Club Qld - ECPv6.15.20//NONSGML v1.0//EN
CALSCALE:GREGORIAN
METHOD:PUBLISH
X-WR-CALNAME:Peugeot Club Qld
X-ORIGINAL-URL:https://staging.peugeotclubqld.org.au
X-WR-CALDESC:Events for Peugeot Club Qld
REFRESH-INTERVAL;VALUE=DURATION:PT1H
X-Robots-Tag:noindex
X-PUBLISHED-TTL:PT1H
BEGIN:VTIMEZONE
TZID:Australia/Brisbane
BEGIN:STANDARD
TZOFFSETFROM:+1000
TZOFFSETTO:+1000
TZNAME:AEST
DTSTART:20250101T000000
END:STANDARD
END:VTIMEZONE
BEGIN:VEVENT
DTSTART;TZID=Australia/Brisbane:20260412T080000
DTEND;TZID=Australia/Brisbane:20260412T160000
DTSTAMP:20260422T195358
CREATED:20260307T002503Z
LAST-MODIFIED:20260307T005701Z
UID:2147-1775980800-1776009600@staging.peugeotclubqld.org.au
SUMMARY:HSCCQ Motorkhana Come and Try Day
DESCRIPTION:HSCCQ Motorkhana Come and Try Day\n\n\n8.00am to 4.00pm\n\n\nentries@hsccq.com\n\n\nQld Raceway\, Champions Way\, Willowbank – Drift Area\n\n\n\n[popup_anything id=”1146″]
URL:https://staging.peugeotclubqld.org.au/event/hsccq-motorkhana-come-and-try-day/
LOCATION:Queensland Raceway\, 133 Champions Way\, Willowbank\, QLD\, 4306\, Australia
CATEGORIES:Event of Interest
ATTACH;FMTTYPE=image/png:https://staging.peugeotclubqld.org.au/wp-content/uploads/2026/03/cropped-HSCCQ-3.png
ORGANIZER;CN="Neale Stuart":MAILTO:social@peugeotclubqld.org.au
END:VEVENT
END:VCALENDAR