BEGIN:VCALENDAR
VERSION:2.0
PRODID:-//Peugeot Club Qld - ECPv6.15.20//NONSGML v1.0//EN
CALSCALE:GREGORIAN
METHOD:PUBLISH
X-WR-CALNAME:Peugeot Club Qld
X-ORIGINAL-URL:https://staging.peugeotclubqld.org.au
X-WR-CALDESC:Events for Peugeot Club Qld
REFRESH-INTERVAL;VALUE=DURATION:PT1H
X-Robots-Tag:noindex
X-PUBLISHED-TTL:PT1H
BEGIN:VTIMEZONE
TZID:Australia/Brisbane
BEGIN:STANDARD
TZOFFSETFROM:+1000
TZOFFSETTO:+1000
TZNAME:AEST
DTSTART:20250101T000000
END:STANDARD
END:VTIMEZONE
BEGIN:VEVENT
DTSTART;TZID=Australia/Brisbane:20260312T193000
DTEND;TZID=Australia/Brisbane:20260312T210000
DTSTAMP:20260422T211400
CREATED:20260111T005551Z
LAST-MODIFIED:20260131T010214Z
UID:1994-1773343800-1773349200@staging.peugeotclubqld.org.au
SUMMARY:PCQ - Annual General Meeting
DESCRIPTION:2026\nBanyo library\nMeeting Room 1\n284 St Vincents Road\, Banyo \nNext meeting THURSDAY 12 March 2026 \n7:30pm for a cuppa before the meeting at 8:00pm \nIf your unable to attend you may still have your Vote by filling-in a Proxy Form\, which you can download from the Home page.
URL:https://staging.peugeotclubqld.org.au/event/pcq-general-meeting-2/
LOCATION:Banyo Library\, 284 St Vincents Road\, Banyo\, QLD\, Australia
CATEGORIES:PCQ General Meetings
ATTACH;FMTTYPE=image/png:https://staging.peugeotclubqld.org.au/wp-content/uploads/2026/01/PCQ-2026-AGM-Flyer1769818780.png
END:VEVENT
END:VCALENDAR